BEGIN:VCALENDAR
VERSION:2.0
PRODID:-//eventon.com NONSGML v1.0//EN
BEGIN:VEVENT
UID:69e9e097f156a
DTSTAMP:20260423T090423
DTSTART:20220917
DTEND:20220917
TZID:Europe/London
LOCATION:
SUMMARY:Ruta por Gran Canaria
DESCRIPTION: El 17 de septiembre haremos una ruta con nuevos amigos de Porsche por carreteras de montaña de Gran Canaria. Este evento está abierto a miembros y no miembros de Porschelemans Canarias.\nhttps://porschelemanscanarias.es/events/ruta-por-gran-canaria/
URL:https://porschelemanscanarias.es/events/ruta-por-gran-canaria/
END:VEVENT
END:VCALENDAR